BEGIN:VCALENDAR
VERSION:2.0
PRODID:-//Poeh Cultural Center - ECPv6.15.20//NONSGML v1.0//EN
CALSCALE:GREGORIAN
METHOD:PUBLISH
X-WR-CALNAME:Poeh Cultural Center
X-ORIGINAL-URL:https://poehcenter.org
X-WR-CALDESC:Events for Poeh Cultural Center
REFRESH-INTERVAL;VALUE=DURATION:PT1H
X-Robots-Tag:noindex
X-PUBLISHED-TTL:PT1H
BEGIN:VTIMEZONE
TZID:America/Denver
BEGIN:DAYLIGHT
TZOFFSETFROM:-0700
TZOFFSETTO:-0600
TZNAME:MDT
DTSTART:20230312T090000
END:DAYLIGHT
BEGIN:STANDARD
TZOFFSETFROM:-0600
TZOFFSETTO:-0700
TZNAME:MST
DTSTART:20231105T080000
END:STANDARD
BEGIN:DAYLIGHT
TZOFFSETFROM:-0700
TZOFFSETTO:-0600
TZNAME:MDT
DTSTART:20240310T090000
END:DAYLIGHT
BEGIN:STANDARD
TZOFFSETFROM:-0600
TZOFFSETTO:-0700
TZNAME:MST
DTSTART:20241103T080000
END:STANDARD
BEGIN:DAYLIGHT
TZOFFSETFROM:-0700
TZOFFSETTO:-0600
TZNAME:MDT
DTSTART:20250309T090000
END:DAYLIGHT
BEGIN:STANDARD
TZOFFSETFROM:-0600
TZOFFSETTO:-0700
TZNAME:MST
DTSTART:20251102T080000
END:STANDARD
END:VTIMEZONE
BEGIN:VEVENT
DTSTART;TZID=America/Denver:20240816T080000
DTEND;TZID=America/Denver:20240818T170000
DTSTAMP:20260420T025510
CREATED:20230901T163310Z
LAST-MODIFIED:20240418T212737Z
UID:9193-1723795200-1724000400@poehcenter.org
SUMMARY:Pathways Indigenous Arts Festival 2024
DESCRIPTION:Santa Fe’s Fastest-Growing Native Art Market organized by Indigenous people\, for Indigenous people and on Indigenous land. \n\n\n\nPATHWAYS has become a premier destination for visitors and collectors to discover vibrant and top-quality Indigenous artwork in diverse genres\, created by well-respected artists from traditional Pueblo potters to contemporary emerging artists. \n\n\n\nThe three-day festival is located at Buffalo Thunder Resort & Casino on the Pueblo of Pojoaque\, New Mexico. August 18\, 19 & 20\, 2023.
URL:https://poehcenter.org/event/pathways-2024/
LOCATION:Buffalo Thunder Resort\, 30 Buffalo Thunder Trail\, Santa Fe\, NM\, 87506\, United States
CATEGORIES:Pathways 2024,Poeh Event
ATTACH;FMTTYPE=image/png:https://poehcenter.org/wp-content/uploads/2023/12/Website-Banner-2024.png
END:VEVENT
END:VCALENDAR